Package: GMRP Version: 1.32.0 Command: E:\biocbuild\bbs-3.19-bioc\R\bin\R.exe CMD check --no-multiarch --install=check:GMRP.install-out.txt --library=E:\biocbuild\bbs-3.19-bioc\R\library --no-vignettes --timings GMRP_1.32.0.tar.gz StartedAt: 2024-10-17 02:00:32 -0400 (Thu, 17 Oct 2024) EndedAt: 2024-10-17 02:02:00 -0400 (Thu, 17 Oct 2024) EllapsedTime: 88.0 seconds RetCode: 0 Status: WARNINGS CheckDir: GMRP.Rcheck Warnings: 1