Package: GMRP Version: 1.32.0 Command: rm -rf GMRP.buildbin-libdir && mkdir GMRP.buildbin-libdir && E:\biocbuild\bbs-3.19-bioc\R\bin\R.exe CMD INSTALL --build --library=GMRP.buildbin-libdir GMRP_1.32.0.tar.gz StartedAt: 2024-10-17 07:54:04 -0400 (Thu, 17 Oct 2024) EndedAt: 2024-10-17 07:54:20 -0400 (Thu, 17 Oct 2024) EllapsedTime: 16.8 seconds RetCode: 0 Status: OK PackageFile: GMRP_1.32.0.zip PackageFileSize: 981.6 KiB