Package: GMRP Version: 1.32.0 Command: /home/biocbuild/R/R-beta-2024-04-15_r86425/bin/R CMD build --keep-empty-dirs --no-resave-data GMRP StartedAt: 2024-05-09 00:40:50 -0000 (Thu, 09 May 2024) EndedAt: 2024-05-09 00:41:11 -0000 (Thu, 09 May 2024) EllapsedTime: 21.0 seconds RetCode: 0 Status: OK PackageFile: GMRP_1.32.0.tar.gz PackageFileSize: 891.1 KiB