Package: GMRP Version: 1.32.0 Command: rm -rf GMRP.buildbin-libdir && mkdir GMRP.buildbin-libdir && /Users/biocbuild/BBS/utils/build-universal.sh GMRP_1.32.0.tar.gz /Library/Frameworks/R.framework/Resources/bin/R GMRP.buildbin-libdir StartedAt: 2024-06-11 11:28:06 -0400 (Tue, 11 Jun 2024) EndedAt: 2024-06-11 11:28:28 -0400 (Tue, 11 Jun 2024) EllapsedTime: 21.9 seconds RetCode: 0 Status: OK PackageFile: GMRP_1.32.0.tgz PackageFileSize: 975 KiB