Package: GMRP Version: 1.32.0 Command: /Library/Frameworks/R.framework/Resources/bin/R CMD check --install=check:GMRP.install-out.txt --library=/Library/Frameworks/R.framework/Resources/library --no-vignettes --timings GMRP_1.32.0.tar.gz StartedAt: 2024-10-17 23:32:00 -0400 (Thu, 17 Oct 2024) EndedAt: 2024-10-17 23:33:30 -0400 (Thu, 17 Oct 2024) EllapsedTime: 89.5 seconds RetCode: 0 Status: OK CheckDir: GMRP.Rcheck Warnings: 0