Package: GMRP Version: 1.32.0 Command: rm -rf GMRP.buildbin-libdir && mkdir GMRP.buildbin-libdir && /Users/biocbuild/BBS/utils/build-universal.sh GMRP_1.32.0.tar.gz /Library/Frameworks/R.framework/Resources/bin/R GMRP.buildbin-libdir StartedAt: 2024-10-18 18:46:07 -0400 (Fri, 18 Oct 2024) EndedAt: 2024-10-18 18:46:22 -0400 (Fri, 18 Oct 2024) EllapsedTime: 15.5 seconds RetCode: 0 Status: OK PackageFile: GMRP_1.32.0.tgz PackageFileSize: 974.7 KiB