Package: GMRP Version: 1.32.0 Maintainer: Yuan-De Tan MaintainerEmail: tanyuande at gmail.com git_url: https://git.bioconductor.org/packages/GMRP git_branch: RELEASE_3_19 git_last_commit: f16d2bc git_last_commit_date: 2024-04-30 11:07:22 -0400 (Tue, 30 Apr 2024)