Package: GLAD Version: 2.68.0 Maintainer: Philippe Hupe MaintainerEmail: glad at curie.fr git_url: https://git.bioconductor.org/packages/GLAD git_branch: RELEASE_3_19 git_last_commit: d5f85a6 git_last_commit_date: 2024-04-30 10:13:02 -0400 (Tue, 30 Apr 2024)