Package: GIGSEA Version: 1.22.0 Command: E:\biocbuild\bbs-3.19-bioc\R\bin\R.exe CMD INSTALL GIGSEA StartedAt: 2024-10-16 15:59:29 -0400 (Wed, 16 Oct 2024) EndedAt: 2024-10-16 15:59:55 -0400 (Wed, 16 Oct 2024) EllapsedTime: 25.8 seconds RetCode: 0 Status: OK