Package: GGPA Version: 1.16.0 Command: /Library/Frameworks/R.framework/Resources/bin/R CMD check --install=check:GGPA.install-out.txt --library=/Library/Frameworks/R.framework/Resources/library --no-vignettes --timings GGPA_1.16.0.tar.gz StartedAt: 2024-10-17 06:04:17 -0400 (Thu, 17 Oct 2024) EndedAt: 2024-10-17 06:10:51 -0400 (Thu, 17 Oct 2024) EllapsedTime: 393.7 seconds RetCode: 0 Status: OK CheckDir: GGPA.Rcheck Warnings: 0