Package: GEWIST Version: 1.48.0 Command: chmod a+r GEWIST -R && E:\biocbuild\bbs-3.19-bioc\R\bin\R.exe CMD build --keep-empty-dirs --no-resave-data GEWIST StartedAt: 2024-10-16 19:26:05 -0400 (Wed, 16 Oct 2024) EndedAt: 2024-10-16 19:28:30 -0400 (Wed, 16 Oct 2024) EllapsedTime: 144.5 seconds RetCode: 0 Status: OK PackageFile: GEWIST_1.48.0.tar.gz PackageFileSize: 267.1 KiB