Package: GEWIST Version: 1.48.0 Command: rm -rf GEWIST.buildbin-libdir && mkdir GEWIST.buildbin-libdir && E:\biocbuild\bbs-3.19-bioc\R\bin\R.exe CMD INSTALL --build --library=GEWIST.buildbin-libdir GEWIST_1.48.0.tar.gz StartedAt: 2024-10-17 07:52:50 -0400 (Thu, 17 Oct 2024) EndedAt: 2024-10-17 07:52:54 -0400 (Thu, 17 Oct 2024) EllapsedTime: 4.0 seconds RetCode: 0 Status: OK PackageFile: GEWIST_1.48.0.zip PackageFileSize: 294 KiB