Package: GEWIST Version: 1.48.0 Command: /home/biocbuild/bbs-3.19-bioc/R/bin/R CMD INSTALL GEWIST StartedAt: 2024-10-16 16:30:15 -0400 (Wed, 16 Oct 2024) EndedAt: 2024-10-16 16:30:17 -0400 (Wed, 16 Oct 2024) EllapsedTime: 2.2 seconds RetCode: 0 Status: OK