Package: GEWIST Version: 1.48.0 Command: /Library/Frameworks/R.framework/Resources/bin/R CMD build --keep-empty-dirs --no-resave-data GEWIST StartedAt: 2024-10-16 19:34:51 -0400 (Wed, 16 Oct 2024) EndedAt: 2024-10-16 19:38:17 -0400 (Wed, 16 Oct 2024) EllapsedTime: 205.7 seconds RetCode: 0 Status: OK PackageFile: GEWIST_1.48.0.tar.gz PackageFileSize: 388.3 KiB