Package: GEOsubmission Version: 1.56.0 Command: chmod a+r GEOsubmission -R && E:\biocbuild\bbs-3.19-bioc\R\bin\R.exe CMD build --keep-empty-dirs --no-resave-data GEOsubmission StartedAt: 2024-10-16 19:25:35 -0400 (Wed, 16 Oct 2024) EndedAt: 2024-10-16 19:25:52 -0400 (Wed, 16 Oct 2024) EllapsedTime: 17.0 seconds RetCode: 0 Status: OK PackageFile: GEOsubmission_1.56.0.tar.gz PackageFileSize: 79.62 KiB