Package: GEOsubmission Version: 1.56.0 Command: rm -rf GEOsubmission.buildbin-libdir && mkdir GEOsubmission.buildbin-libdir && E:\biocbuild\bbs-3.19-bioc\R\bin\R.exe CMD INSTALL --build --library=GEOsubmission.buildbin-libdir GEOsubmission_1.56.0.tar.gz StartedAt: 2024-10-17 07:52:32 -0400 (Thu, 17 Oct 2024) EndedAt: 2024-10-17 07:52:38 -0400 (Thu, 17 Oct 2024) EllapsedTime: 5.9 seconds RetCode: 0 Status: OK PackageFile: GEOsubmission_1.56.0.zip PackageFileSize: 102 KiB