Package: GEOsubmission Version: 1.56.0 Command: /home/biocbuild/R/R-beta-2024-04-15_r86425/bin/R CMD build --keep-empty-dirs --no-resave-data GEOsubmission StartedAt: 2024-05-09 00:33:46 -0000 (Thu, 09 May 2024) EndedAt: 2024-05-09 00:33:53 -0000 (Thu, 09 May 2024) EllapsedTime: 7.0 seconds RetCode: 0 Status: OK PackageFile: GEOsubmission_1.56.0.tar.gz PackageFileSize: 186 KiB