Package: GEOmetadb Version: 1.66.0 Command: F:\biocbuild\bbs-3.19-bioc\R\bin\R.exe CMD check --no-multiarch --install=check:GEOmetadb.install-out.txt --library=F:\biocbuild\bbs-3.19-bioc\R\library --no-vignettes --timings GEOmetadb_1.66.0.tar.gz StartedAt: 2024-06-27 02:06:11 -0400 (Thu, 27 Jun 2024) EndedAt: 2024-06-27 02:07:32 -0400 (Thu, 27 Jun 2024) EllapsedTime: 80.9 seconds RetCode: 0 Status: WARNINGS CheckDir: GEOmetadb.Rcheck Warnings: 1