Package: GEOmetadb Version: 1.66.0 Command: rm -rf GEOmetadb.buildbin-libdir && mkdir GEOmetadb.buildbin-libdir && F:\biocbuild\bbs-3.19-bioc\R\bin\R.exe CMD INSTALL --build --library=GEOmetadb.buildbin-libdir GEOmetadb_1.66.0.tar.gz StartedAt: 2024-06-27 08:17:01 -0400 (Thu, 27 Jun 2024) EndedAt: 2024-06-27 08:17:29 -0400 (Thu, 27 Jun 2024) EllapsedTime: 27.0 seconds RetCode: 0 Status: OK PackageFile: GEOmetadb_1.66.0.zip PackageFileSize: 401.9 KiB