Package: GEOmetadb Version: 1.66.0 Command: /home/biocbuild/bbs-3.19-bioc/R/bin/R CMD check --install=check:GEOmetadb.install-out.txt --library=/home/biocbuild/bbs-3.19-bioc/R/site-library --timings GEOmetadb_1.66.0.tar.gz StartedAt: 2024-10-17 00:52:40 -0400 (Thu, 17 Oct 2024) EndedAt: 2024-10-17 00:53:47 -0400 (Thu, 17 Oct 2024) EllapsedTime: 67.1 seconds RetCode: 0 Status: WARNINGS CheckDir: GEOmetadb.Rcheck Warnings: 1