Package: GEOmetadb Version: 1.66.0 Command: /home/biocbuild/bbs-3.19-bioc/R/bin/R CMD build --keep-empty-dirs --no-resave-data GEOmetadb StartedAt: 2024-10-16 18:41:57 -0400 (Wed, 16 Oct 2024) EndedAt: 2024-10-16 18:42:20 -0400 (Wed, 16 Oct 2024) EllapsedTime: 23.1 seconds RetCode: 0 Status: OK PackageFile: GEOmetadb_1.66.0.tar.gz PackageFileSize: 512.3 KiB