Package: GEOmetadb Version: 1.66.0 Command: /Library/Frameworks/R.framework/Resources/bin/R CMD check --install=check:GEOmetadb.install-out.txt --library=/Library/Frameworks/R.framework/Resources/library --no-vignettes --timings GEOmetadb_1.66.0.tar.gz StartedAt: 2024-10-17 06:00:01 -0400 (Thu, 17 Oct 2024) EndedAt: 2024-10-17 06:02:01 -0400 (Thu, 17 Oct 2024) EllapsedTime: 119.8 seconds RetCode: 0 Status: WARNINGS CheckDir: GEOmetadb.Rcheck Warnings: 1