Package: GEOmetadb Version: 1.66.0 Command: /Library/Frameworks/R.framework/Resources/bin/R CMD build --keep-empty-dirs --no-resave-data GEOmetadb StartedAt: 2024-10-16 19:33:13 -0400 (Wed, 16 Oct 2024) EndedAt: 2024-10-16 19:34:08 -0400 (Wed, 16 Oct 2024) EllapsedTime: 54.4 seconds RetCode: 0 Status: OK PackageFile: GEOmetadb_1.66.0.tar.gz PackageFileSize: 617.6 KiB