Package: GEOfastq Version: 1.12.0 Command: E:\biocbuild\bbs-3.19-bioc\R\bin\R.exe CMD INSTALL GEOfastq StartedAt: 2024-10-16 16:07:41 -0400 (Wed, 16 Oct 2024) EndedAt: 2024-10-16 16:07:45 -0400 (Wed, 16 Oct 2024) EllapsedTime: 4.3 seconds RetCode: 0 Status: OK