Package: GEOfastq Version: 1.12.0 Command: rm -rf GEOfastq.buildbin-libdir && mkdir GEOfastq.buildbin-libdir && E:\biocbuild\bbs-3.19-bioc\R\bin\R.exe CMD INSTALL --build --library=GEOfastq.buildbin-libdir GEOfastq_1.12.0.tar.gz StartedAt: 2024-10-17 07:52:19 -0400 (Thu, 17 Oct 2024) EndedAt: 2024-10-17 07:52:24 -0400 (Thu, 17 Oct 2024) EllapsedTime: 4.5 seconds RetCode: 0 Status: OK PackageFile: GEOfastq_1.12.0.zip PackageFileSize: 41.55 KiB