Package: GEOfastq Version: 1.12.0 Command: F:\biocbuild\bbs-3.19-bioc\R\bin\R.exe CMD INSTALL GEOfastq StartedAt: 2024-06-26 15:46:47 -0400 (Wed, 26 Jun 2024) EndedAt: 2024-06-26 15:47:07 -0400 (Wed, 26 Jun 2024) EllapsedTime: 19.8 seconds RetCode: 0 Status: OK