Package: GEOfastq Version: 1.12.0 Command: chmod a+r GEOfastq -R && F:\biocbuild\bbs-3.19-bioc\R\bin\R.exe CMD build --keep-empty-dirs --no-resave-data GEOfastq StartedAt: 2024-06-26 19:09:58 -0400 (Wed, 26 Jun 2024) EndedAt: 2024-06-26 19:10:10 -0400 (Wed, 26 Jun 2024) EllapsedTime: 11.7 seconds RetCode: 0 Status: OK PackageFile: GEOfastq_1.12.0.tar.gz PackageFileSize: 13.44 KiB