Package: GEOfastq Version: 1.12.0 Command: rm -rf GEOfastq.buildbin-libdir && mkdir GEOfastq.buildbin-libdir && F:\biocbuild\bbs-3.19-bioc\R\bin\R.exe CMD INSTALL --build --library=GEOfastq.buildbin-libdir GEOfastq_1.12.0.tar.gz StartedAt: 2024-06-27 08:16:59 -0400 (Thu, 27 Jun 2024) EndedAt: 2024-06-27 08:17:03 -0400 (Thu, 27 Jun 2024) EllapsedTime: 4.0 seconds RetCode: 0 Status: OK PackageFile: GEOfastq_1.12.0.zip PackageFileSize: 41.53 KiB