Package: GEOfastq Version: 1.12.0 Command: /Library/Frameworks/R.framework/Resources/bin/R CMD INSTALL GEOfastq StartedAt: 2024-10-16 15:13:20 -0400 (Wed, 16 Oct 2024) EndedAt: 2024-10-16 15:13:48 -0400 (Wed, 16 Oct 2024) EllapsedTime: 27.3 seconds RetCode: 0 Status: OK