Package: GEOfastq Version: 1.12.0 Command: /Library/Frameworks/R.framework/Resources/bin/R CMD check --install=check:GEOfastq.install-out.txt --library=/Library/Frameworks/R.framework/Resources/library --no-vignettes --timings GEOfastq_1.12.0.tar.gz StartedAt: 2024-10-17 05:59:55 -0400 (Thu, 17 Oct 2024) EndedAt: 2024-10-17 06:01:05 -0400 (Thu, 17 Oct 2024) EllapsedTime: 70.1 seconds RetCode: 0 Status: OK CheckDir: GEOfastq.Rcheck Warnings: 0