Package: GEOfastq Version: 1.12.0 Command: rm -rf GEOfastq.buildbin-libdir && mkdir GEOfastq.buildbin-libdir && /Users/biocbuild/BBS/utils/build-universal.sh GEOfastq_1.12.0.tar.gz /Library/Frameworks/R.framework/Resources/bin/R GEOfastq.buildbin-libdir StartedAt: 2024-06-10 00:20:00 -0400 (Mon, 10 Jun 2024) EndedAt: 2024-06-10 00:20:05 -0400 (Mon, 10 Jun 2024) EllapsedTime: 4.5 seconds RetCode: 0 Status: OK PackageFile: GEOfastq_1.12.0.tgz PackageFileSize: 36.44 KiB