Package: GEOfastq Version: 1.12.0 Command: /home/biocbuild/R/R-beta-2024-04-15_r86425/bin/R CMD check --install=check:GEOfastq.install-out.txt --library=/home/biocbuild/R/R-beta-2024-04-15_r86425/site-library --no-vignettes --timings GEOfastq_1.12.0.tar.gz StartedAt: 2024-05-09 07:48:51 -0000 (Thu, 09 May 2024) EndedAt: 2024-05-09 08:28:52 -0000 (Thu, 09 May 2024) EllapsedTime: 2400.3 seconds RetCode: None Status: TIMEOUT CheckDir: GEOfastq.Rcheck Warnings: NA