Package: GEOfastq Version: 1.12.0 Command: /home/biocbuild/R/R-beta-2024-04-15_r86425/bin/R CMD build --keep-empty-dirs --no-resave-data GEOfastq StartedAt: 2024-05-09 00:33:12 -0000 (Thu, 09 May 2024) EndedAt: 2024-05-09 00:33:45 -0000 (Thu, 09 May 2024) EllapsedTime: 33.0 seconds RetCode: 0 Status: OK PackageFile: GEOfastq_1.12.0.tar.gz PackageFileSize: 13.86 KiB