Package: GEOfastq Version: 1.12.0 Maintainer: Alex Pickering MaintainerEmail: alexvpickering at gmail.com git_url: https://git.bioconductor.org/packages/GEOfastq git_branch: RELEASE_3_19 git_last_commit: 0213220 git_last_commit_date: 2024-04-30 11:30:04 -0400 (Tue, 30 Apr 2024)