Package: GEOexplorer Version: 1.10.0 Command: E:\biocbuild\bbs-3.19-bioc\R\bin\R.exe CMD check --no-multiarch --install=check:GEOexplorer.install-out.txt --library=E:\biocbuild\bbs-3.19-bioc\R\library --no-vignettes --timings GEOexplorer_1.10.0.tar.gz StartedAt: 2024-10-17 01:53:12 -0400 (Thu, 17 Oct 2024) EndedAt: 2024-10-17 01:58:57 -0400 (Thu, 17 Oct 2024) EllapsedTime: 344.9 seconds RetCode: 0 Status: WARNINGS CheckDir: GEOexplorer.Rcheck Warnings: 1