Package: GEOexplorer Version: 1.10.0 Command: rm -rf GEOexplorer.buildbin-libdir && mkdir GEOexplorer.buildbin-libdir && F:\biocbuild\bbs-3.19-bioc\R\bin\R.exe CMD INSTALL --build --library=GEOexplorer.buildbin-libdir GEOexplorer_1.10.0.tar.gz StartedAt: 2024-06-27 08:16:57 -0400 (Thu, 27 Jun 2024) EndedAt: 2024-06-27 08:17:49 -0400 (Thu, 27 Jun 2024) EllapsedTime: 51.5 seconds RetCode: 0 Status: OK PackageFile: GEOexplorer_1.10.0.zip PackageFileSize: 7.43 MiB