Package: GEOexplorer Version: 1.10.0 Command: /home/biocbuild/bbs-3.19-bioc/R/bin/R CMD INSTALL GEOexplorer StartedAt: 2024-10-16 16:45:36 -0400 (Wed, 16 Oct 2024) EndedAt: 2024-10-16 16:46:08 -0400 (Wed, 16 Oct 2024) EllapsedTime: 31.8 seconds RetCode: 0 Status: OK