Package: GEOexplorer Version: 1.10.0 Command: /home/biocbuild/bbs-3.19-bioc/R/bin/R CMD check --install=check:GEOexplorer.install-out.txt --library=/home/biocbuild/bbs-3.19-bioc/R/site-library --timings GEOexplorer_1.10.0.tar.gz StartedAt: 2024-10-17 00:52:16 -0400 (Thu, 17 Oct 2024) EndedAt: 2024-10-17 00:57:42 -0400 (Thu, 17 Oct 2024) EllapsedTime: 325.6 seconds RetCode: 0 Status: WARNINGS CheckDir: GEOexplorer.Rcheck Warnings: 1