Package: GEOexplorer Version: 1.10.0 Command: /home/biocbuild/bbs-3.19-bioc/R/bin/R CMD build --keep-empty-dirs --no-resave-data GEOexplorer StartedAt: 2024-10-16 18:41:16 -0400 (Wed, 16 Oct 2024) EndedAt: 2024-10-16 18:42:01 -0400 (Wed, 16 Oct 2024) EllapsedTime: 45.1 seconds RetCode: 0 Status: OK PackageFile: GEOexplorer_1.10.0.tar.gz PackageFileSize: 11.26 MiB