Package: GEOexplorer Version: 1.10.0 Command: /Library/Frameworks/R.framework/Resources/bin/R CMD check --install=check:GEOexplorer.install-out.txt --library=/Library/Frameworks/R.framework/Resources/library --no-vignettes --timings GEOexplorer_1.10.0.tar.gz StartedAt: 2024-10-17 05:59:47 -0400 (Thu, 17 Oct 2024) EndedAt: 2024-10-17 06:10:34 -0400 (Thu, 17 Oct 2024) EllapsedTime: 647.2 seconds RetCode: 0 Status: WARNINGS CheckDir: GEOexplorer.Rcheck Warnings: 1