Package: GEOexplorer Version: 1.10.0 Command: /Library/Frameworks/R.framework/Resources/bin/R CMD build --keep-empty-dirs --no-resave-data GEOexplorer StartedAt: 2024-10-16 19:32:53 -0400 (Wed, 16 Oct 2024) EndedAt: 2024-10-16 19:34:35 -0400 (Wed, 16 Oct 2024) EllapsedTime: 102.3 seconds RetCode: 0 Status: OK PackageFile: GEOexplorer_1.10.0.tar.gz PackageFileSize: 11.26 MiB