Package: GEOexplorer Version: 1.10.0 Command: rm -rf GEOexplorer.buildbin-libdir && mkdir GEOexplorer.buildbin-libdir && /Users/biocbuild/BBS/utils/build-universal.sh GEOexplorer_1.10.0.tar.gz /Library/Frameworks/R.framework/Resources/bin/R GEOexplorer.buildbin-libdir StartedAt: 2024-10-17 16:15:18 -0400 (Thu, 17 Oct 2024) EndedAt: 2024-10-17 16:16:44 -0400 (Thu, 17 Oct 2024) EllapsedTime: 86.0 seconds RetCode: 0 Status: OK PackageFile: GEOexplorer_1.10.0.tgz PackageFileSize: 7.433 MiB