Package: GEOexplorer Version: 1.10.0 Command: /home/biocbuild/R/R-beta-2024-04-15_r86425/bin/R CMD build --keep-empty-dirs --no-resave-data GEOexplorer StartedAt: 2024-05-09 00:32:42 -0000 (Thu, 09 May 2024) EndedAt: 2024-05-09 00:33:46 -0000 (Thu, 09 May 2024) EllapsedTime: 64.1 seconds RetCode: 0 Status: OK PackageFile: GEOexplorer_1.10.0.tar.gz PackageFileSize: 11.26 MiB