Package: GEOexplorer Version: 1.10.0 Command: /Library/Frameworks/R.framework/Resources/bin/R CMD build --keep-empty-dirs --no-resave-data GEOexplorer StartedAt: 2024-06-09 22:08:32 -0400 (Sun, 09 Jun 2024) EndedAt: 2024-06-09 22:09:33 -0400 (Sun, 09 Jun 2024) EllapsedTime: 61.8 seconds RetCode: 0 Status: OK PackageFile: GEOexplorer_1.10.0.tar.gz PackageFileSize: 11.26 MiB