Package: GEOexplorer Version: 1.10.0 Command: rm -rf GEOexplorer.buildbin-libdir && mkdir GEOexplorer.buildbin-libdir && /Users/biocbuild/BBS/utils/build-universal.sh GEOexplorer_1.10.0.tar.gz /Library/Frameworks/R.framework/Resources/bin/R GEOexplorer.buildbin-libdir StartedAt: 2024-10-18 18:42:28 -0400 (Fri, 18 Oct 2024) EndedAt: 2024-10-18 18:43:20 -0400 (Fri, 18 Oct 2024) EllapsedTime: 52.3 seconds RetCode: 0 Status: OK PackageFile: GEOexplorer_1.10.0.tgz PackageFileSize: 7.433 MiB