Package: GEOexplorer Version: 1.10.0 Maintainer: Guy Hunt MaintainerEmail: guy.hunt at kcl.ac.uk git_url: https://git.bioconductor.org/packages/GEOexplorer git_branch: RELEASE_3_19 git_last_commit: c55e7b5 git_last_commit_date: 2024-04-30 11:36:23 -0400 (Tue, 30 Apr 2024)