Package: GENIE3 Version: 1.26.0 Command: E:\biocbuild\bbs-3.19-bioc\R\bin\R.exe CMD INSTALL GENIE3 StartedAt: 2024-10-16 16:04:52 -0400 (Wed, 16 Oct 2024) EndedAt: 2024-10-16 16:05:02 -0400 (Wed, 16 Oct 2024) EllapsedTime: 10.8 seconds RetCode: 0 Status: OK