Package: GENIE3 Version: 1.26.0 Command: rm -rf GENIE3.buildbin-libdir && mkdir GENIE3.buildbin-libdir && E:\biocbuild\bbs-3.19-bioc\R\bin\R.exe CMD INSTALL --build --library=GENIE3.buildbin-libdir GENIE3_1.26.0.tar.gz StartedAt: 2024-10-17 07:51:11 -0400 (Thu, 17 Oct 2024) EndedAt: 2024-10-17 07:51:21 -0400 (Thu, 17 Oct 2024) EllapsedTime: 10.0 seconds RetCode: 0 Status: OK PackageFile: GENIE3_1.26.0.zip PackageFileSize: 267.5 KiB