Package: GENIE3 Version: 1.26.0 Command: /Library/Frameworks/R.framework/Resources/bin/R CMD build --keep-empty-dirs --no-resave-data GENIE3 StartedAt: 2024-10-16 19:29:01 -0400 (Wed, 16 Oct 2024) EndedAt: 2024-10-16 19:29:20 -0400 (Wed, 16 Oct 2024) EllapsedTime: 19.1 seconds RetCode: 0 Status: OK PackageFile: GENIE3_1.26.0.tar.gz PackageFileSize: 241.4 KiB