Package: GENIE3 Version: 1.26.0 Maintainer: Van Anh Huynh-Thu MaintainerEmail: vahuynh at uliege.be git_url: https://git.bioconductor.org/packages/GENIE3 git_branch: RELEASE_3_19 git_last_commit: 997c488 git_last_commit_date: 2024-04-30 10:59:28 -0400 (Tue, 30 Apr 2024)